BEGIN:VCALENDAR
VERSION:2.0
PRODID:-//DVC Auctions - ECPv6.15.13.1//NONSGML v1.0//EN
CALSCALE:GREGORIAN
METHOD:PUBLISH
X-ORIGINAL-URL:https://dvc.be
X-WR-CALDESC:Events for DVC Auctions
REFRESH-INTERVAL;VALUE=DURATION:PT1H
X-Robots-Tag:noindex
X-PUBLISHED-TTL:PT1H
BEGIN:VTIMEZONE
TZID:Europe/Helsinki
BEGIN:DAYLIGHT
TZOFFSETFROM:+0200
TZOFFSETTO:+0300
TZNAME:EEST
DTSTART:20250330T010000
END:DAYLIGHT
BEGIN:STANDARD
TZOFFSETFROM:+0300
TZOFFSETTO:+0200
TZNAME:EET
DTSTART:20251026T010000
END:STANDARD
BEGIN:DAYLIGHT
TZOFFSETFROM:+0200
TZOFFSETTO:+0300
TZNAME:EEST
DTSTART:20260329T010000
END:DAYLIGHT
BEGIN:STANDARD
TZOFFSETFROM:+0300
TZOFFSETTO:+0200
TZNAME:EET
DTSTART:20261025T010000
END:STANDARD
BEGIN:DAYLIGHT
TZOFFSETFROM:+0200
TZOFFSETTO:+0300
TZNAME:EEST
DTSTART:20270328T010000
END:DAYLIGHT
BEGIN:STANDARD
TZOFFSETFROM:+0300
TZOFFSETTO:+0200
TZNAME:EET
DTSTART:20271031T010000
END:STANDARD
END:VTIMEZONE
BEGIN:VEVENT
DTSTART;TZID=Europe/Helsinki:20260430T140000
DTEND;TZID=Europe/Helsinki:20260503T170000
DTSTAMP:20260424T004752
CREATED:20260114T155032Z
LAST-MODIFIED:20260217T104418Z
UID:348174-1777557600-1777827600@dvc.be
SUMMARY:Exposition Antwerp
DESCRIPTION:Thursday & Friday : 2pm – 5pm. \nSaturday & Sunday : 11am – 5pm.
URL:https://dvc.be/en/event/expositie-2
LOCATION:Antwerp\, Ellermanstraat 36\, Antwerpen\, 2060
END:VEVENT
END:VCALENDAR